BEGIN:VCALENDAR
VERSION:2.0
PRODID:-//Tower of Power Gospel Ministries - ECPv4.3.5//NONSGML v1.0//EN
CALSCALE:GREGORIAN
METHOD:PUBLISH
X-WR-CALNAME:Tower of Power Gospel Ministries
X-ORIGINAL-URL:https://towerofpowergospelministries.org
X-WR-CALDESC:Events for Tower of Power Gospel Ministries
BEGIN:VEVENT
DTSTART;TZID=UTC+0:20261007T180000
DTEND;TZID=UTC+0:20261007T200000
DTSTAMP:20260421T165918
CREATED:20161014T080903Z
LAST-MODIFIED:20161014T080903Z
UID:10241-1791396000-1791403200@towerofpowergospelministries.org
SUMMARY:Mid-Week Service
DESCRIPTION:
URL:https://towerofpowergospelministries.org/event/mid-week-service/2026-10-07/
LOCATION:1500 Kline Street\, Texarkana\, AR\, 71854\, United States
END:VEVENT
END:VCALENDAR