BEGIN:VCALENDAR
VERSION:2.0
PRODID:-//Tower of Power Gospel Ministries - ECPv4.3.5//NONSGML v1.0//EN
CALSCALE:GREGORIAN
METHOD:PUBLISH
X-WR-CALNAME:Tower of Power Gospel Ministries
X-ORIGINAL-URL:https://towerofpowergospelministries.org
X-WR-CALDESC:Events for Tower of Power Gospel Ministries
BEGIN:VEVENT
DTSTART;TZID=UTC+0:20260602T180000
DTEND;TZID=UTC+0:20260602T190000
DTSTAMP:20260419T200131
CREATED:20161014T082021Z
LAST-MODIFIED:20161014T082021Z
UID:9671-1780423200-1780426800@towerofpowergospelministries.org
SUMMARY:Kool School
DESCRIPTION:
URL:https://towerofpowergospelministries.org/event/kool-school/2026-06-02/
LOCATION:1500 Kline Street\, Texarkana\, AR\, 71854\, United States
END:VEVENT
END:VCALENDAR