BEGIN:VCALENDAR
VERSION:2.0
PRODID:-//Tower of Power Gospel Ministries - ECPv4.3.5//NONSGML v1.0//EN
CALSCALE:GREGORIAN
METHOD:PUBLISH
X-WR-CALNAME:Tower of Power Gospel Ministries
X-ORIGINAL-URL:https://towerofpowergospelministries.org
X-WR-CALDESC:Events for Tower of Power Gospel Ministries
BEGIN:VEVENT
DTSTART;TZID=UTC+0:20260616T103000
DTEND;TZID=UTC+0:20260616T130000
DTSTAMP:20260421T102519
CREATED:20161014T080448Z
LAST-MODIFIED:20161014T080448Z
UID:9808-1781605800-1781614800@towerofpowergospelministries.org
SUMMARY:Food Distribution
DESCRIPTION:
URL:https://towerofpowergospelministries.org/event/food-distribution/2026-06-16/
LOCATION:1500 Kline Street\, Texarkana\, AR\, 71854\, United States
END:VEVENT
END:VCALENDAR